BEGIN:VCALENDAR
VERSION:2.0
PRODID:-//Buggy Offroad Club Kiel e.V. - ECPv6.15.20//NONSGML v1.0//EN
CALSCALE:GREGORIAN
METHOD:PUBLISH
X-ORIGINAL-URL:https://boc-kiel.de
X-WR-CALDESC:Veranstaltungen für Buggy Offroad Club Kiel e.V.
REFRESH-INTERVAL;VALUE=DURATION:PT1H
X-Robots-Tag:noindex
X-PUBLISHED-TTL:PT1H
BEGIN:VTIMEZONE
TZID:UTC
BEGIN:STANDARD
TZOFFSETFROM:+0000
TZOFFSETTO:+0000
TZNAME:UTC
DTSTART:20240101T000000
END:STANDARD
END:VTIMEZONE
BEGIN:VEVENT
DTSTART;VALUE=DATE:20250719
DTEND;VALUE=DATE:20250721
DTSTAMP:20260424T170025
CREATED:20250608T173926Z
LAST-MODIFIED:20251217T151229Z
UID:178-1752883200-1753055999@boc-kiel.de
SUMMARY:2. SH-Cup Lauf OR8 und ORE8 beim B.O.C. Kiel e.V.
DESCRIPTION:Ergebnis BOC Kiel \n1233_4178_reglement \n1233_4178_ausschreibung-1
URL:https://boc-kiel.de/event/2-sh-cup-or8-und-ore8-beim-b-o-c-kiel-e-v/
LOCATION:B.O.C. Kiel e.V.\, C72F+CR\, Wendtorf
ATTACH;FMTTYPE=image/png:https://boc-kiel.de/wp-content/uploads/2025/06/file_00000000b6d4620a8dc071dbfe074455.png
END:VEVENT
END:VCALENDAR