BEGIN:VCALENDAR
VERSION:2.0
PRODID:-//Buggy Offroad Club Kiel e.V. - ECPv6.15.20//NONSGML v1.0//EN
CALSCALE:GREGORIAN
METHOD:PUBLISH
X-ORIGINAL-URL:https://boc-kiel.de
X-WR-CALDESC:Veranstaltungen für Buggy Offroad Club Kiel e.V.
REFRESH-INTERVAL;VALUE=DURATION:PT1H
X-Robots-Tag:noindex
X-PUBLISHED-TTL:PT1H
BEGIN:VTIMEZONE
TZID:UTC
BEGIN:STANDARD
TZOFFSETFROM:+0000
TZOFFSETTO:+0000
TZNAME:UTC
DTSTART:20240101T000000
END:STANDARD
END:VTIMEZONE
BEGIN:VEVENT
DTSTART;VALUE=DATE:20251031
DTEND;VALUE=DATE:20251103
DTSTAMP:20260424T110525
CREATED:20250610T124626Z
LAST-MODIFIED:20250919T042148Z
UID:301-1761868800-1762127999@boc-kiel.de
SUMMARY:Fear Farm 8.0 OR8/ORE8/ORT
DESCRIPTION:
URL:https://boc-kiel.de/event/fear-farm-8-0-or8-ore8-ort/
LOCATION:RC Tonder\, Korntvedvej 15\, Tonder\, 6270\, Denmark
ATTACH;FMTTYPE=image/jpeg:https://boc-kiel.de/wp-content/uploads/2025/06/Screenshot_20250919_061342_Facebook.jpg
ORGANIZER;CN="RC Tonder":MAILTO:rctoender@gmail.com
END:VEVENT
END:VCALENDAR