BEGIN:VCALENDAR
VERSION:2.0
PRODID:-//Buggy Offroad Club Kiel e.V. - ECPv6.15.20//NONSGML v1.0//EN
CALSCALE:GREGORIAN
METHOD:PUBLISH
X-ORIGINAL-URL:https://boc-kiel.de
X-WR-CALDESC:Veranstaltungen für Buggy Offroad Club Kiel e.V.
REFRESH-INTERVAL;VALUE=DURATION:PT1H
X-Robots-Tag:noindex
X-PUBLISHED-TTL:PT1H
BEGIN:VTIMEZONE
TZID:UTC
BEGIN:STANDARD
TZOFFSETFROM:+0000
TZOFFSETTO:+0000
TZNAME:UTC
DTSTART:20240101T000000
END:STANDARD
END:VTIMEZONE
BEGIN:VEVENT
DTSTART;VALUE=DATE:20250621
DTEND;VALUE=DATE:20250623
DTSTAMP:20260424T165331
CREATED:20250610T095432Z
LAST-MODIFIED:20250611T045203Z
UID:261-1750464000-1750636799@boc-kiel.de
SUMMARY:4. SK-Lauf Nord OR8 und ORE8 und Freundschaftsrennen OR8/ORE8
DESCRIPTION:Ausschreibung_SK_FR-Lauf_MSC_2025_V2-3
URL:https://boc-kiel.de/event/4-sk-lauf-nord-or8-und-ore8-und-freundschaftsrennen-or8-ore8/
LOCATION:MSC-Ring\, am Verkehrsübungsplatz Braunschweig\, Bienroder Straße 30\, Braunschweig\, 38106\, Germany
ATTACH;FMTTYPE=image/jpeg:https://boc-kiel.de/wp-content/uploads/2025/06/Screenshot_20250611_065031_Chrome.jpg
END:VEVENT
END:VCALENDAR